BEGIN:VCALENDAR
VERSION:2.0
PRODID:-//Rosamundi - ECPv6.15.20//NONSGML v1.0//EN
CALSCALE:GREGORIAN
METHOD:PUBLISH
X-WR-CALNAME:Rosamundi
X-ORIGINAL-URL:https://www.rosa-mundi.it
X-WR-CALDESC:Eventi per Rosamundi
REFRESH-INTERVAL;VALUE=DURATION:PT1H
X-Robots-Tag:noindex
X-PUBLISHED-TTL:PT1H
BEGIN:VTIMEZONE
TZID:UTC
BEGIN:STANDARD
TZOFFSETFROM:+0000
TZOFFSETTO:+0000
TZNAME:UTC
DTSTART:20250101T000000
END:STANDARD
END:VTIMEZONE
BEGIN:VEVENT
DTSTART;TZID=UTC:20260126T063000
DTEND;TZID=UTC:20260626T193000
DTSTAMP:20260419T110128
CREATED:20260113T133600Z
LAST-MODIFIED:20260118T094303Z
UID:242958-1769409000-1782502200@www.rosa-mundi.it
SUMMARY:Yoga Routine per il buon risveglio
DESCRIPTION:Avete mai desiderato prepararvi alla giornata con una pratica che possa aiutarvi a connettervi con voi stess* e attivare corpo\, mento e spirito appena scivolat* giù dal letto? Noi sì e non siamo le uniche\, per questo abbiamo organizzato questo momento per permetterci di far partire il nostro giorno con l’energia\, la centratura e la consapevolezza necessarie. Il tutto con un’insegnante di grande sensibilità ed esperienza\, Azzurra Innamorati\, perchè se si vuole superare serenamente lo stress della sveglia presto\, va fatto bene! La pratica prevede posizioni che rafforzano e tonificano i muscoli\, migliorano la postura e aumentano la mobilità delle articolazioni. Le varie asana proposte hanno anche l’effetto di stimolare le ghiandole ormonali e massaggiare gli organi interni. Verranno anche effettuate pratiche di respirazione pranayama adatte alla mattina\, che favoriscono una maggiore concentrazione e consapevolezza durante la giornata. \n\nMEDITAZIONE SERALE\nUna sera a settimana è proposto un incontro di tecniche di preparazione alla meditazione\, che permettono di ricercare  uno spazio interiore di silenzio e di presenza. La meditazione non e’ imparare una tecnica ma stare nello spazio interno dove corpo e mente trovano chiarezza. \n \nDOVE: ONLINE su piattaforma ZOOM – il link verrà fornito al momento dell’iscrizione \nQUANDO:\n– LUNEDì\, MERCOLEDì E VENERDì  dalle 6:30 alle 7:00\n– MARTEDì E GIOVEDì dalle 7:00 alle 7:30 \n+ 1 sera a settimana facoltativa di introduzione alla meditazione (30 min): il giorno verrà comunicato durante l’incontro mattutino e/o via whatsapp in base alla disponibilità di Azzurra e dei/lle partecipanti. \nQUANDO SI PARTE: A partire da Lunedì 26 gennaio fino a Venerdì 26 giugno 2026. Possibile fare una prova gratuita. Per info associazionerosario@gmail.com \nCOSA SERVE: essere svegli (almeno un po’)\, vestiti comodi (anche in pigiama va bene)\, essere a digiuno (ma il caffè se volete potete prenderlo) e un materassino. \nQUANTO COSTA: 1 pacchetto da 15 incontri a 50€ + 1 sera a settimana facoltativa di introduzione alla meditazione (30 min)\nOFFERTA: pagamento di 30 incontri a 90€ (sconto del 10%) + 10€ di quota associativa se non ancora associat* valida fino al 31 agosto 2026. \nIn questo modo potrete scegliere come gestire la vostra partecipazione\, se mantenere i giorni dispari\, se fare quelli pari con un orario un po’ più comodo\, ecc. \nAZZURRA INNAMORATI\nComincia a praticare 17 anni fa durante la gravidanza del primo figlio. Ha seguito  una formazione di tre anni con l’insegnante Ilaria Perni presso il Kashi Kriya yoga Center di Perugia. Insieme allo studio dell’Hatha yoga\, approfondisce lo studio dell’Ayurveda e dei testi antichi. Inizia ad insegnare Hatha yoga e Yoga in gravidanza circa 7 anni fa. Due anni fa approfondisce gli studi con un viaggio in India\, a Jaipur presso una clinica Ayurveda e in seguito presso un Asharam dove ha potuto vivere esperienze preziose. Nel 2024 consegue il diploma di Pilates Matwork presso FIF.
URL:https://www.rosa-mundi.it/evento/yoga-routine-2026/
LOCATION:Online
CATEGORIES:workshop
ATTACH;FMTTYPE=image/heic:https://www.rosa-mundi.it/wp-content/uploads/2025/10/IMG_5447-2-e1760804613358.jpg
END:VEVENT
BEGIN:VEVENT
DTSTART;TZID=UTC:20260129T190000
DTEND;TZID=UTC:20260702T200000
DTSTAMP:20260419T110128
CREATED:20260113T135923Z
LAST-MODIFIED:20260113T135923Z
UID:242965-1769713200-1783022400@www.rosa-mundi.it
SUMMARY:Circle Song 2026
DESCRIPTION:Con l’avvento del nuovo anno riprendono gli incontri canterini in cerchio presso la sala Bernabai in via Birago a PERUGIA \nLa Circle Song è cantare in cerchio con melodie e ritmi improvvisati con un facilitatore\, in questo caso Charles Raszl e Valentina Romizi che accompagna la parte di movimento.\nCatare in cerchio è la dimensione perfetta per chi è incuriosito/a dal canto ma non sa da dove cominciare: secondo noi iniziare dalla gioia della musica e vivere l’esperienza insieme è sempre il modo migliore.\nNon è necessario saper cantare per partecipare e non è obbligatorio partecipare a tutti gli incontri 🌻\nVi chiediamo il favore di iscrivervi sul form solo poter gestire lo spazio in serenità \n👉🏼https://forms.gle/GTgAK2rnCL2X519U8 \nDi seguito il calendario del primo semestre: \nGIOVEDÌ 29 GENNAIO     19:00-20:00  \nGIOVEDÌ 19 FEBBRAIO     19:00-20:00  \nGIOVEDÌ 29 MARZO — DA CONFERMARE     19:00-20:00  \nGIOVEDÌ 16 APRILE     19:00-20:00  \nGIOVEDÌ 7 MAGGIO     19:00-20:00  \nGIOVEDÌ 7 MAGGIO     19:00-20:00  \nGIOVEDÌ 18 GIUGNO     19:00-20:00  \nGIOVEDÌ 2 LUGLIO     19:00-20:00  \nLa partecipazione alla Circle Song è ad offerta libera\, che sarà versata all’Associazione Rosario come contributo alle attività istituzionali.\n\n\nSe volete seguirci sui social:\nInstagram: https://www.instagram.com/associazionerosario/#\nFacebook: https://www.facebook.com/AssociazioneRosario/
URL:https://www.rosa-mundi.it/evento/circle-song2026/
LOCATION:Via Dalmazio Birago\, 51\, 06124 Perugia PG\, Via Dalmazio Birago\, 51\, Perugia\, 06124\, Italy
CATEGORIES:circle
END:VEVENT
BEGIN:VEVENT
DTSTART;TZID=UTC:20260502T203000
DTEND;TZID=UTC:20260502T203000
DTSTAMP:20260419T110128
CREATED:20251031T171634Z
LAST-MODIFIED:20251031T172918Z
UID:242550-1777753800-1777753800@www.rosa-mundi.it
SUMMARY:CORPINFESTA SHOW 2026
DESCRIPTION:Anche quest’anno il Collettivo Rosario è ospite nella serata spettacolo del festival CorpInFesta di Rovereto (TN) che si svolge dal 29 aprile al 3 maggio 2026. In questa III edizione oltre al Collettivo saranno ospiti altri artisti come Andrea De Siena\, Ronaldo Crispim\, Samira Marana e Guillermo Rozenthuler\, con i quali sono previste collaborazioni performative e interazioni artistiche… \nPer info: https://www.rosa-mundi.it/corpinfesta/
URL:https://www.rosa-mundi.it/evento/corpinfesta-show/
LOCATION:Teatro Rosmini\, Via Paganini\, 14\, 38068 Rovereto TN\, Italy
CATEGORIES:spettacoli
ATTACH;FMTTYPE=image/jpeg:https://www.rosa-mundi.it/wp-content/uploads/2025/10/CorpInFesta-Show_Rosmini-e1761930946607.jpg
END:VEVENT
BEGIN:VEVENT
DTSTART;TZID=UTC:20260516T143000
DTEND;TZID=UTC:20260517T133000
DTSTAMP:20260419T110128
CREATED:20260311T072857Z
LAST-MODIFIED:20260314T082531Z
UID:243113-1778941800-1779024600@www.rosa-mundi.it
SUMMARY:UN INTRECCIO VITALE – Metodo Feldenkrais® e Meditazione
DESCRIPTION:con Robert Bozarth \nChi ha sperimentato il Metodo Feldenkrais® sa quanto questa pratica porti ad intraprendere una ricca e illimitata ricerca della consapevolezza e sia di grande sostegno per lo sviluppo degli stati meditativi.\nLa pratica proposta da Robert è un intreccio tra lezioni di Consapevolezza Attraverso il Movimento® (Metodo Feldenkrais®)\, meditazione e pratiche di Respiro.\nL’intreccio delle discipline permette un effetto sinergico e facilita l’emergere di una consapevolezza radicata e duratura.. \nA chi è rivolto\nIl seminario è rivolto a tutti: a chi già pratica il Feldenkrais® e/o la meditazione\, come a chi è curioso di provare questo speciale intreccio. \nINFO LOGISTICHE\nQuando e dove\nSabato 16 maggio 2026 ore  14.30-18.30\nDomenica 17 maggio 2026 ore 9.30-13.30\nScuola primaria di Besenello (TN)\, Via De Gasperi 2 – Besenello (TN) \nCosti di partecipazione\n80 € > due giornate\n45 € > una giornata (sabato o domenica)\nAttività rivolta ai soci di Rosario\, quota associativa 2025/26 di 10 € valida fino al 31.8.2026 \nInfo e iscrizioni\nassociazionerosario@gmail.com / 349 737 6495 (Luna) \nPASSAPAROLA! condividi l’evento Facebook \nROBERT BOZARTH\nRobert Bozarth è Insegnante di Metodo Feldenkrais® da 2002 e di Tecnica Alexander da 1991.\nDa 1991 è impegnato nell’insegnamento sia con professionisti in campi specifici\, sia con chi è interessato ad un miglioramento organico del movimento e ad un maggiore benessere psico-fisico.\nNumerose le sue collaborazioni con musicisti e danzatori.\nHa collaborato col Centro di Logopedia Montesanto di Parma e con diverse realtà nell’ambito della musica e della danza\, insegnando in molti Conservatori e suole di danza tra cui l’Accademia Isola Danza – La Biennale di Venezia diretta da Carolyn Carlson\, Umbria Danza 2003; e il Centro Professionale Danza Contemporanea di Firenze diretto da Paolo Mereu.\nDa 2007 pratica regolarmente la meditazione Vipassana partecipando a Ritiri con maestri tra cui Bhante Sujiva\, Dassana\, Corrado Pensa e Shinzen Young.\nDa 2016 organizza e guida dei seminari che esplorano l’effetto sinergico tra il Metodo Feldenkrais® e la meditazione.
URL:https://www.rosa-mundi.it/evento/metodo-feldenkrais-e-meditazione/
LOCATION:Scuola Primaria di Besenello (Trento)\, Via De Gasperi 2\, Besenello\, Italy
CATEGORIES:workshop
ATTACH;FMTTYPE=image/jpeg:https://www.rosa-mundi.it/wp-content/uploads/2025/08/Robert-Bozarth-16-9.jpeg
END:VEVENT
BEGIN:VEVENT
DTSTART;TZID=UTC:20260606T103000
DTEND;TZID=UTC:20260606T173000
DTSTAMP:20260419T110128
CREATED:20260408T131014Z
LAST-MODIFIED:20260408T141308Z
UID:243133-1780741800-1780767000@www.rosa-mundi.it
SUMMARY:Workshop di body music e polifonia vocale
DESCRIPTION:Con Charles Raszl e Lorenzo Sansoni \nChi ha già sperimentato la pratica corale e la body music sa quanto ascolto\, canto e ritmo siano strumenti fondamentali per costruire un’esperienza polifonica condivisa. Il workshop Body Music e Polifonia Vocale propone un percorso in cui canto e corpo lavorano insieme per sviluppare armonia\, precisione ritmica e ascolto consapevole: un intreccio dinamico e fluido di riscaldamento vocale\, ear training\, giochi polifonici\, improvvisazione\, lavoro d’ensemble e body music. Attraverso il corpo ed esercizi semplici e progressivi\, i partecipanti rafforzeranno l’orecchio ritmico e armonico in un contesto divertente e stimolante.\nQuesta esperienza permetterà di entrare in contatto con alcuni aspetti della cultura popolare brasiliana e della sua integrazione con altre espressioni umane\, avvicinandosi ad un approccio in cui il corpo è allo stesso tempo evento percussivo\, melodico e armonico che balla e porta storie individuali e collettive.\nAccanto alla dimensione ritmica e corporea\, si approfondiranno arrangiamenti vocali a 2 o 3 voci\, rendendo il lavoro corale completo e coinvolgente. Il percorso culminerà nella costruzione condivisa di un brano\, eseguito combinando coro e body music. \nA chi è rivolto\nIl laboratorio è aperto a tutti: sia a chi ha già esperienza di canto corale e body music\, sia a chi desidera avvicinarsi per la prima volta a un lavoro vocale e corporeo d’insieme\, attraverso un approccio pratico\, dinamico\, giocoso e inclusivo. \nINFO LOGISTICHE\nQuando e dove\nSabato 6 Giugno 2026 ore 10.30 > 17.30 (pausa pranzo 12.30 > 14.30)\nScuola di musica CEMI\, Via San Donnino 4 – Bologna \nCOSTI di partecipazione**:\n>> Early bird << entro il 15 maggio\n70 €\n50 € (quota ridotta per i coristi di Goccia di Voci IT)\n>> Dopo il 15 maggio\n80 €\n60 € (quota ridotta per i coristi di Goccia di Voci IT)\n*Attività rivolta ai soci di Rosario\, quota associativa 2025/26 di 10 € valida fino al 31.8.2026 \nInfo e iscrizioni\ncorogocciadivoci@gmail.com \nPASSAPAROLA!  condividi l’evento Facebook
URL:https://www.rosa-mundi.it/evento/body-music-polifonia-vocale/
LOCATION:Scuola di musica CEMI\, Via San Donnino 4\, Bologna\, Italy
CATEGORIES:workshop
ATTACH;FMTTYPE=image/jpeg:https://www.rosa-mundi.it/wp-content/uploads/2026/04/ChaLore.jpg
END:VEVENT
BEGIN:VEVENT
DTSTART;TZID=UTC:20260619T210000
DTEND;TZID=UTC:20260619T220000
DTSTAMP:20260419T110128
CREATED:20260305T152244Z
LAST-MODIFIED:20260305T153117Z
UID:243105-1781902800-1781906400@www.rosa-mundi.it
SUMMARY:COLLETTIVO ROSARIO @IL RADUNACCIO
DESCRIPTION:Il Collettivo ha l’onore di essere ospite al RADUNACCIO\, raduno internazionale di cori popolari raduno internazionale di cori popolari che si svolge nell’incantevole cornice di Vicopisano\, piccolo paesino in provincia di Pisa. \nIn nostro repertorio si contraddistingue per avere origine in diverse culture\, quindi proporremo brani popolari della tradizione brasiliana ma anche italiana.. \n  \nPer info: \nIL RADUNACCIO
URL:https://www.rosa-mundi.it/evento/radunaccio/
LOCATION:Via Loris Baroni\, 14\, 56010 Vicopisano PI\, Via Loris Baroni\, 14\, Vicopisano
CATEGORIES:spettacoli
ATTACH;FMTTYPE=image/webp:https://www.rosa-mundi.it/wp-content/uploads/2026/03/cropped-logo-canto-rovesciato-piccolo.png-e1772724033962.webp
END:VEVENT
BEGIN:VEVENT
DTSTART;TZID=UTC:20260701T183000
DTEND;TZID=UTC:20260826T193000
DTSTAMP:20260419T110128
CREATED:20260410T074641Z
LAST-MODIFIED:20260416T102716Z
UID:243141-1782930600-1787772600@www.rosa-mundi.it
SUMMARY:FELDENKRAIS D’ESTATE
DESCRIPTION:Lezioni online i mercoledì di luglio ed agosto\ncon Carlomauro Maggiore\nRosario APS e Centro Feldenkrais Carlomauro Maggiore collaborano per la realizzazione di due cicli di lezioni Feldenkrais® a tema con Carlomauro Maggiore\, che ci condurrà nel corso di tutta la pausa estiva.\nLe lezioni si terranno online su piattaforma Zoom i mercoledì ore 18:30-19:30 secondo il calendario indicato di seguito.\nSe ci sarà sufficiente interesse sarà possibile aprire un secondo turno nell’orario 17:00-18:00. \nPIEDI STABILI E DINAMICI\n1-8-15-22 luglio 2026\nCosto: offerta per l’estate: 60 € | costo agevolato di 48 € per iscrizioni entro il 3 giugno 2026 \nIL DIALOGO TRA MANDIBOLA E BACINO\n29 luglio-5-19-26 agosto 2026\nCosto: offerta per l’estate: 60 € | costo agevolato di 48 € per iscrizioni entro il 1° luglio 2026 \nCome fare se si perde una lezione?\nChi perde una lezione riceverà la registrazione il venerdì mattina della stessa settimana e potrà seguirla entro la la lezione successiva. Per ogni ciclo di 4 lezioni è possibile ricevere al massimo una registrazione. \nINFO ed ISCRIZIONI associazionerosario@gmail.com / 349 737 6495 (Luna) \nPIEDI STABILI E DINAMICI\nEsploreremo il ruolo dei piedi come fondamenta del nostro sistema di equilibrio\, sostegno e movimento. I piedi non solo ci portano nel mondo\, ma dialogano costantemente con le ginocchia\, il bacino e la colonna\, influenzando la postura\, la respirazione e persino la qualità dell’attenzione.\nAttraverso una serie di Lezioni di Consapevolezza attraverso il Movimento (ATM)\, i partecipanti saranno guidati a ritrovare un senso più profondo di contatto\, stabilità e reattività nei piedi\, e a scoprire come questo possa alleggerire l’intero sistema muscolo-scheletrico. \nI piedi nella vita quotidiana\nSpesso ci accorgiamo dei piedi solo quando fanno male o sono stanchi. Ma i loro movimenti e microregolazioni sono presenti in ogni gesto. Ecco alcuni esempi:\n– Stare in piedi a lungo: i piedi gestiscono il peso del corpo e l’equilibrio minuto dopo minuto\n– Camminare\, salire le scale\, correre: la dinamica dell’appoggio influenza ogni passo\n– Stare seduti con i piedi a terra: anche in appoggio passivo\, possono sostenere la postura\n– Cambiare direzione\, fermarsi\, partire: i piedi sono i primi a percepire e organizzare l’intenzione\n– Posture abitudinarie: piedi rigidi o bloccati irrigidiscono anche ginocchia e bacino\n– Attività artistiche o sportive: danzatori\, attori e atleti si affidano costantemente alla risposta dinamica dei piedi \nImpareremo come rendere i piedi più intelligenti\, reattivi e sensibili\, per migliorare tutto il nostro modo di muoverci e stare nel mondo.\nObiettivi :\n– Risvegliare la sensibilità e l’intelligenza dei piedi\n– Migliorare l’appoggio e la distribuzione del peso\n– Favorire la stabilità dinamica e l’agilità nei cambi di direzione\n– Ridurre tensioni a piedi\, caviglie\, ginocchia e anche\n– Integrare i piedi in un’organizzazione globale più fluida e reattiva \nIl percorso è aperto a tutti: a chi desidera migliorare il proprio equilibrio e benessere\, a camminatori\, danzatori\, praticanti di movimento e a chi passa molto tempo in piedi o in cammino \nIL DIALOGO TRA MANDIBOLA E BACINO\nCi immergeremo in un percorso di ascolto sensoriale e movimento consapevole per esplorare il rapporto sottile e potente che può instaurarsi tra la mandibola e il bacino. Spesso queste due aree sono considerate separate o distanti\, ma il corpo le intreccia attraverso catene muscolari\, equilibrio\, postura e respirazione.\nAttraverso Lezioni di Consapevolezza attraverso il Movimento (ATM)\, partecipanti saranno guidati a stabilire un dialogo fluido e armonico tra le micro‑regolazioni della mandibola e le strategie di stabilità e mobilità del bacino. Scopriremo come piccoli movimenti\, apparentemente “piccoli”\, possano rivelare connessioni sorprendenti\, liberando tensioni e favorendo un’organizzazione più integrata. \nI dialoghi mandibola – bacino nella vita quotidiana\nQuesto percorso si propone di rendere evidenti e utili le relazioni fra mandibola e bacino anche nei gesti più ordinari. Ecco alcuni esempi che potresti riconoscere:\n– Masticare\, deglutire o parlare con una mandibola più rilassata che supporta una postura fluida\n– Stringere la mascella o digrignare i denti\, spesso inconsciamente\, in momenti di stress\n– Sollevare una borsa o uno zaino\, attivando il bacino e la schiena in comunicazione con la mandibola\n– Spostare il busto o girarsi mentre il collo\, la testa e la mandibola “seguono” in armonia\n– Respirare profondamente\, armonizzando il movimento diaframmatico\, la tensione facciale e la sensazione centrale del bacino\n– Uso del cellulare o laptop\, quando la posizione della testa/mandibola influenza l’assetto del tronco e bacino\n\nIn ognuno di questi casi c’è un feed‑back continuo tra mandibola\, base cranica\, colonna vertebrale e bacino: più impariamo ad ascoltare quel dialogo\, più possiamo agire con leggerezza e coerenza.\nObiettivi:\n– Favorire l’integrazione funzionale tra mandibola e bacino\n– Rilasciare tensioni mandibolari\, cervicali e pelviche\n– Migliorare la postura e la stabilità del tronco\n– Potenziare l’armonia del respiro e l’organizzazione interna\n– Dare strumenti pratici per portare questa consapevolezza nei gesti quotidiani \nCARLOMAURO MAGGIORE\nÈ insegnante del Metodo Feldenkrais®\, certificato presso la formazione italiana “Roma 4”\, dove ha studiato con formatori italiani e internazionali\, molti dei quali allievi diretti di Moshe Feldenkrais\, fondatore del metodo.\nDal 2005 dirige a Palermo il Centro Feldenkrais Carlomauro Maggiore\, dove promuove il Metodo attraverso lezioni di gruppo (ATM)\, sedute individuali (FI) e seminari teorico-pratici.\nIn vent’anni di attività ha applicato il Metodo in contesti molto diversi\, lavorando con persone di ogni età\, anche con difficoltà motorie complesse\, e collaborando con medici\, associazioni\, scuole e strutture pubbliche e private.\nPartecipa attivamente alla Formazione Professionale Feldenkrais\, offrendo lezioni individuali agli allievi in qualità di insegnante esperto.\nÈ anche docente in contesti internazionali: ha insegnato in workshop e training Feldenkrais in Cina\, Grecia e Repubblica Ceca.\nProfessionista della danza contemporanea\, è danzatore\, coreografo e insegnante di Tecnica Nikolais. Ha collaborato con compagnie prestigiose e coreografi di fama internazionale\, tra cui Carolyn Carlson e Simona Bucci.
URL:https://www.rosa-mundi.it/evento/felden-estate-2026/
LOCATION:Online
CATEGORIES:workshop
ATTACH;FMTTYPE=image/jpeg:https://www.rosa-mundi.it/wp-content/uploads/2026/04/Felden-destate-SITO.jpg
END:VEVENT
BEGIN:VEVENT
DTSTART;TZID=UTC:20260806T203000
DTEND;TZID=UTC:20260806T220000
DTSTAMP:20260419T110128
CREATED:20260410T061639Z
LAST-MODIFIED:20260410T061639Z
UID:243080-1786048200-1786053600@www.rosa-mundi.it
SUMMARY:Collettivo Rosario @Teatro Capovolto - Trento
DESCRIPTION:E’ con gioia che dopo tre anni il Collettivo Rosario torna ospite del bellissimo Teatro Capovolto. \nPresentermo il nostro spettacolo “Fio Azul” nell’ambito della rassegna estiva. \nper info: https://www.centrosantachiara.it/web/app.php/
URL:https://www.rosa-mundi.it/evento/collettivo-rosario-teatro-capovolto-trento/
LOCATION:Teatro Sociale\, Via Paolo Oss-Mazzurana\, 19 38122 Trento TN\, Italy
CATEGORIES:spettacoli
ATTACH;FMTTYPE=image/jpeg:https://www.rosa-mundi.it/wp-content/uploads/2026/02/teatro.jpg
END:VEVENT
END:VCALENDAR